BEGIN:VCALENDAR
VERSION:2.0
PRODID:-//Wilhelm-Kraft-Gesamtschule - ECPv6.15.17.1//NONSGML v1.0//EN
CALSCALE:GREGORIAN
METHOD:PUBLISH
X-ORIGINAL-URL:https://wkge-en.de/wkge
X-WR-CALDESC:Veranstaltungen für Wilhelm-Kraft-Gesamtschule
REFRESH-INTERVAL;VALUE=DURATION:PT1H
X-Robots-Tag:noindex
X-PUBLISHED-TTL:PT1H
BEGIN:VTIMEZONE
TZID:Europe/Berlin
BEGIN:DAYLIGHT
TZOFFSETFROM:+0100
TZOFFSETTO:+0200
TZNAME:CEST
DTSTART:20250330T010000
END:DAYLIGHT
BEGIN:STANDARD
TZOFFSETFROM:+0200
TZOFFSETTO:+0100
TZNAME:CET
DTSTART:20251026T010000
END:STANDARD
BEGIN:DAYLIGHT
TZOFFSETFROM:+0100
TZOFFSETTO:+0200
TZNAME:CEST
DTSTART:20260329T010000
END:DAYLIGHT
BEGIN:STANDARD
TZOFFSETFROM:+0200
TZOFFSETTO:+0100
TZNAME:CET
DTSTART:20261025T010000
END:STANDARD
BEGIN:DAYLIGHT
TZOFFSETFROM:+0100
TZOFFSETTO:+0200
TZNAME:CEST
DTSTART:20270328T010000
END:DAYLIGHT
BEGIN:STANDARD
TZOFFSETFROM:+0200
TZOFFSETTO:+0100
TZNAME:CET
DTSTART:20271031T010000
END:STANDARD
END:VTIMEZONE
BEGIN:VEVENT
DTSTART;VALUE=DATE:20260622
DTEND;VALUE=DATE:20260625
DTSTAMP:20260421T104805
CREATED:20260211T075607Z
LAST-MODIFIED:20260211T075607Z
UID:10628-1782086400-1782345599@wkge-en.de
SUMMARY:Abiturprüfungen 1. bis 3. Fach
DESCRIPTION:
URL:https://wkge-en.de/wkge/termine/abiturpruefungen-1-bis-3-fach/
END:VEVENT
BEGIN:VEVENT
DTSTART;VALUE=DATE:20260624
DTEND;VALUE=DATE:20260625
DTSTAMP:20260421T104805
CREATED:20260211T075635Z
LAST-MODIFIED:20260211T075635Z
UID:10630-1782259200-1782345599@wkge-en.de
SUMMARY:1. Tag Abweichprüfungen Jahrgang 10
DESCRIPTION:
URL:https://wkge-en.de/wkge/termine/1-tag-abweichpruefungen-jahrgang-10/
END:VEVENT
BEGIN:VEVENT
DTSTART;TZID=Europe/Berlin:20260624T080000
DTEND;TZID=Europe/Berlin:20260624T132000
DTSTAMP:20260421T104805
CREATED:20260211T075720Z
LAST-MODIFIED:20260211T075720Z
UID:10632-1782288000-1782307200@wkge-en.de
SUMMARY:Patenausbildung neue 5er
DESCRIPTION:
URL:https://wkge-en.de/wkge/termine/patenausbildung-neue-5er/
END:VEVENT
END:VCALENDAR