BEGIN:VCALENDAR
VERSION:2.0
PRODID:-//Wilhelm-Kraft-Gesamtschule - ECPv6.15.17.1//NONSGML v1.0//EN
CALSCALE:GREGORIAN
METHOD:PUBLISH
X-ORIGINAL-URL:https://wkge-en.de/wkge
X-WR-CALDESC:Veranstaltungen für Wilhelm-Kraft-Gesamtschule
REFRESH-INTERVAL;VALUE=DURATION:PT1H
X-Robots-Tag:noindex
X-PUBLISHED-TTL:PT1H
BEGIN:VTIMEZONE
TZID:Europe/Berlin
BEGIN:DAYLIGHT
TZOFFSETFROM:+0100
TZOFFSETTO:+0200
TZNAME:CEST
DTSTART:20250330T010000
END:DAYLIGHT
BEGIN:STANDARD
TZOFFSETFROM:+0200
TZOFFSETTO:+0100
TZNAME:CET
DTSTART:20251026T010000
END:STANDARD
BEGIN:DAYLIGHT
TZOFFSETFROM:+0100
TZOFFSETTO:+0200
TZNAME:CEST
DTSTART:20260329T010000
END:DAYLIGHT
BEGIN:STANDARD
TZOFFSETFROM:+0200
TZOFFSETTO:+0100
TZNAME:CET
DTSTART:20261025T010000
END:STANDARD
BEGIN:DAYLIGHT
TZOFFSETFROM:+0100
TZOFFSETTO:+0200
TZNAME:CEST
DTSTART:20270328T010000
END:DAYLIGHT
BEGIN:STANDARD
TZOFFSETFROM:+0200
TZOFFSETTO:+0100
TZNAME:CET
DTSTART:20271031T010000
END:STANDARD
END:VTIMEZONE
BEGIN:VEVENT
DTSTART;TZID=Europe/Berlin:20260707T080000
DTEND;TZID=Europe/Berlin:20260707T094500
DTSTAMP:20260421T140723
CREATED:20260211T080947Z
LAST-MODIFIED:20260211T080947Z
UID:10644-1783411200-1783417500@wkge-en.de
SUMMARY:Sponsorenlauf "Action Kids" Jahrgang 5
DESCRIPTION:
URL:https://wkge-en.de/wkge/termine/sponsorenlauf-action-kids-jahrgang-5/
END:VEVENT
BEGIN:VEVENT
DTSTART;TZID=Europe/Berlin:20260707T100000
DTEND;TZID=Europe/Berlin:20260707T113000
DTSTAMP:20260421T140723
CREATED:20260211T081014Z
LAST-MODIFIED:20260211T081717Z
UID:10646-1783418400-1783423800@wkge-en.de
SUMMARY:Sponsorenlauf "Action Kids" Jahrgang 6
DESCRIPTION:
URL:https://wkge-en.de/wkge/termine/sponsorenlauf-action-kids-jahrgang-6/
END:VEVENT
BEGIN:VEVENT
DTSTART;TZID=Europe/Berlin:20260707T143000
DTEND;TZID=Europe/Berlin:20260707T160000
DTSTAMP:20260421T140723
CREATED:20260211T081055Z
LAST-MODIFIED:20260226T102414Z
UID:10648-1783434600-1783440000@wkge-en.de
SUMMARY:Kennenlernnachmittag neue 5a\, 5b und 5c
DESCRIPTION:
URL:https://wkge-en.de/wkge/termine/kennenlernnachmittag-neue-5a-5b-und-5c/
END:VEVENT
BEGIN:VEVENT
DTSTART;TZID=Europe/Berlin:20260707T160000
DTEND;TZID=Europe/Berlin:20260707T173000
DTSTAMP:20260421T140723
CREATED:20260211T081806Z
LAST-MODIFIED:20260211T081806Z
UID:10650-1783440000-1783445400@wkge-en.de
SUMMARY:Kennenlernnachmittag neue 5d\, 5e und 5f
DESCRIPTION:
URL:https://wkge-en.de/wkge/termine/kennenlernnachmittag-neue-5d-5e-und-5f/
END:VEVENT
BEGIN:VEVENT
DTSTART;TZID=Europe/Berlin:20260707T183000
DTEND;TZID=Europe/Berlin:20260707T200000
DTSTAMP:20260421T140723
CREATED:20260211T081841Z
LAST-MODIFIED:20260211T081841Z
UID:10652-1783449000-1783454400@wkge-en.de
SUMMARY:Schulkonferenz 5
DESCRIPTION:
URL:https://wkge-en.de/wkge/termine/schulkonferenz-5/
END:VEVENT
END:VCALENDAR