BEGIN:VCALENDAR
VERSION:2.0
PRODID:-//Wilhelm-Kraft-Gesamtschule - ECPv6.15.17.1//NONSGML v1.0//EN
CALSCALE:GREGORIAN
METHOD:PUBLISH
X-ORIGINAL-URL:https://wkge-en.de/wkge
X-WR-CALDESC:Veranstaltungen für Wilhelm-Kraft-Gesamtschule
REFRESH-INTERVAL;VALUE=DURATION:PT1H
X-Robots-Tag:noindex
X-PUBLISHED-TTL:PT1H
BEGIN:VTIMEZONE
TZID:Europe/Berlin
BEGIN:DAYLIGHT
TZOFFSETFROM:+0100
TZOFFSETTO:+0200
TZNAME:CEST
DTSTART:20250330T010000
END:DAYLIGHT
BEGIN:STANDARD
TZOFFSETFROM:+0200
TZOFFSETTO:+0100
TZNAME:CET
DTSTART:20251026T010000
END:STANDARD
BEGIN:DAYLIGHT
TZOFFSETFROM:+0100
TZOFFSETTO:+0200
TZNAME:CEST
DTSTART:20260329T010000
END:DAYLIGHT
BEGIN:STANDARD
TZOFFSETFROM:+0200
TZOFFSETTO:+0100
TZNAME:CET
DTSTART:20261025T010000
END:STANDARD
BEGIN:DAYLIGHT
TZOFFSETFROM:+0100
TZOFFSETTO:+0200
TZNAME:CEST
DTSTART:20270328T010000
END:DAYLIGHT
BEGIN:STANDARD
TZOFFSETFROM:+0200
TZOFFSETTO:+0100
TZNAME:CET
DTSTART:20271031T010000
END:STANDARD
END:VTIMEZONE
BEGIN:VEVENT
DTSTART;TZID=Europe/Berlin:20260717T095500
DTEND;TZID=Europe/Berlin:20260717T103000
DTSTAMP:20260421T140457
CREATED:20260211T100715Z
LAST-MODIFIED:20260211T100715Z
UID:10667-1784282100-1784284200@wkge-en.de
SUMMARY:CleanDay
DESCRIPTION:
URL:https://wkge-en.de/wkge/termine/cleanday/
END:VEVENT
BEGIN:VEVENT
DTSTART;TZID=Europe/Berlin:20260717T104500
DTEND;TZID=Europe/Berlin:20260717T113000
DTSTAMP:20260421T140457
CREATED:20260211T100759Z
LAST-MODIFIED:20260211T100759Z
UID:10669-1784285100-1784287800@wkge-en.de
SUMMARY:Zeugnisausgabe\, danach unterrichtsfrei
DESCRIPTION:
URL:https://wkge-en.de/wkge/termine/zeugnisausgabe-danach-unterrichtsfrei/
END:VEVENT
END:VCALENDAR