BEGIN:VCALENDAR
VERSION:2.0
PRODID:-//Wilhelm-Kraft-Gesamtschule - ECPv6.15.17.1//NONSGML v1.0//EN
CALSCALE:GREGORIAN
METHOD:PUBLISH
X-ORIGINAL-URL:https://wkge-en.de/wkge
X-WR-CALDESC:Veranstaltungen für Wilhelm-Kraft-Gesamtschule
REFRESH-INTERVAL;VALUE=DURATION:PT1H
X-Robots-Tag:noindex
X-PUBLISHED-TTL:PT1H
BEGIN:VTIMEZONE
TZID:Europe/Berlin
BEGIN:DAYLIGHT
TZOFFSETFROM:+0100
TZOFFSETTO:+0200
TZNAME:CEST
DTSTART:20250330T010000
END:DAYLIGHT
BEGIN:STANDARD
TZOFFSETFROM:+0200
TZOFFSETTO:+0100
TZNAME:CET
DTSTART:20251026T010000
END:STANDARD
BEGIN:DAYLIGHT
TZOFFSETFROM:+0100
TZOFFSETTO:+0200
TZNAME:CEST
DTSTART:20260329T010000
END:DAYLIGHT
BEGIN:STANDARD
TZOFFSETFROM:+0200
TZOFFSETTO:+0100
TZNAME:CET
DTSTART:20261025T010000
END:STANDARD
BEGIN:DAYLIGHT
TZOFFSETFROM:+0100
TZOFFSETTO:+0200
TZNAME:CEST
DTSTART:20270328T010000
END:DAYLIGHT
BEGIN:STANDARD
TZOFFSETFROM:+0200
TZOFFSETTO:+0100
TZNAME:CET
DTSTART:20271031T010000
END:STANDARD
END:VTIMEZONE
BEGIN:VEVENT
DTSTART;VALUE=DATE:20260501
DTEND;VALUE=DATE:20260502
DTSTAMP:20260419T145023
CREATED:20260211T074315Z
LAST-MODIFIED:20260211T074315Z
UID:10580-1777593600-1777679999@wkge-en.de
SUMMARY:Feiertag (1. Mai)
DESCRIPTION:
URL:https://wkge-en.de/wkge/termine/feiertag-1-mai/
END:VEVENT
BEGIN:VEVENT
DTSTART;VALUE=DATE:20260504
DTEND;VALUE=DATE:20260505
DTSTAMP:20260419T145023
CREATED:20260211T074352Z
LAST-MODIFIED:20260211T074352Z
UID:10582-1777852800-1777939199@wkge-en.de
SUMMARY:schriftliches Abitur Latein GK 6  Erweiterungsprüfung
DESCRIPTION:
URL:https://wkge-en.de/wkge/termine/schriftliches-abitur-latein-gk-6-erweiterungspruefung/
END:VEVENT
BEGIN:VEVENT
DTSTART;TZID=Europe/Berlin:20260505T143000
DTEND;TZID=Europe/Berlin:20260505T160000
DTSTAMP:20260419T145023
CREATED:20260211T074207Z
LAST-MODIFIED:20260324T081959Z
UID:10576-1777991400-1777996800@wkge-en.de
SUMMARY:Arbeitskreis "Schule neu denken"
DESCRIPTION:
URL:https://wkge-en.de/wkge/termine/arbeitskreis-schule-neu-denken/
END:VEVENT
BEGIN:VEVENT
DTSTART;VALUE=DATE:20260506
DTEND;VALUE=DATE:20260507
DTSTAMP:20260419T145023
CREATED:20260211T074415Z
LAST-MODIFIED:20260211T074415Z
UID:10584-1778025600-1778111999@wkge-en.de
SUMMARY:schriftliches Abitur M LK & GK
DESCRIPTION:
URL:https://wkge-en.de/wkge/termine/schriftliches-abitur-m-lk-gk/
END:VEVENT
BEGIN:VEVENT
DTSTART;VALUE=DATE:20260508
DTEND;VALUE=DATE:20260509
DTSTAMP:20260419T145023
CREATED:20260211T075326Z
LAST-MODIFIED:20260211T075326Z
UID:10618-1778198400-1778284799@wkge-en.de
SUMMARY:Wilhelm-Kraft-Tag
DESCRIPTION:
URL:https://wkge-en.de/wkge/termine/wilhelm-kraft-tag/
END:VEVENT
BEGIN:VEVENT
DTSTART;VALUE=DATE:20260513
DTEND;VALUE=DATE:20260514
DTSTAMP:20260419T145023
CREATED:20260211T074456Z
LAST-MODIFIED:20260211T074456Z
UID:10586-1778630400-1778716799@wkge-en.de
SUMMARY:ZP 10 Deutsch
DESCRIPTION:
URL:https://wkge-en.de/wkge/termine/zp-10-deutsch/
END:VEVENT
BEGIN:VEVENT
DTSTART;VALUE=DATE:20260514
DTEND;VALUE=DATE:20260515
DTSTAMP:20260419T145023
CREATED:20260211T074525Z
LAST-MODIFIED:20260211T074525Z
UID:10588-1778716800-1778803199@wkge-en.de
SUMMARY:Feiertag (Christi Himmelfahrt)
DESCRIPTION:
URL:https://wkge-en.de/wkge/termine/feiertag-christi-himmelfahrt/
END:VEVENT
BEGIN:VEVENT
DTSTART;VALUE=DATE:20260515
DTEND;VALUE=DATE:20260516
DTSTAMP:20260419T145023
CREATED:20260211T074545Z
LAST-MODIFIED:20260211T074545Z
UID:10590-1778803200-1778889599@wkge-en.de
SUMMARY:beweglicher Ferientag
DESCRIPTION:
URL:https://wkge-en.de/wkge/termine/beweglicher-ferientag-5/
END:VEVENT
BEGIN:VEVENT
DTSTART;VALUE=DATE:20260518
DTEND;VALUE=DATE:20260521
DTSTAMP:20260419T145023
CREATED:20260211T074647Z
LAST-MODIFIED:20260211T074647Z
UID:10592-1779062400-1779321599@wkge-en.de
SUMMARY:mündliches Abitur Q2
DESCRIPTION:
URL:https://wkge-en.de/wkge/termine/muendliches-abitur-q2/
END:VEVENT
BEGIN:VEVENT
DTSTART;VALUE=DATE:20260519
DTEND;VALUE=DATE:20260520
DTSTAMP:20260419T145023
CREATED:20260211T074716Z
LAST-MODIFIED:20260211T074716Z
UID:10594-1779148800-1779235199@wkge-en.de
SUMMARY:ZP 10 Englisch
DESCRIPTION:
URL:https://wkge-en.de/wkge/termine/zp-10-englisch/
END:VEVENT
BEGIN:VEVENT
DTSTART;VALUE=DATE:20260525
DTEND;VALUE=DATE:20260526
DTSTAMP:20260419T145023
CREATED:20260211T074813Z
LAST-MODIFIED:20260211T074813Z
UID:10598-1779667200-1779753599@wkge-en.de
SUMMARY:Feiertag (Pfingstmontag)
DESCRIPTION:
URL:https://wkge-en.de/wkge/termine/feiertag-pfingstmontag/
END:VEVENT
BEGIN:VEVENT
DTSTART;VALUE=DATE:20260526
DTEND;VALUE=DATE:20260527
DTSTAMP:20260419T145023
CREATED:20260211T074841Z
LAST-MODIFIED:20260211T074841Z
UID:10600-1779753600-1779839999@wkge-en.de
SUMMARY:Pfingstferien
DESCRIPTION:
URL:https://wkge-en.de/wkge/termine/pfingstferien/
END:VEVENT
BEGIN:VEVENT
DTSTART;VALUE=DATE:20260528
DTEND;VALUE=DATE:20260529
DTSTAMP:20260419T145023
CREATED:20260211T074740Z
LAST-MODIFIED:20260211T074740Z
UID:10596-1779926400-1780012799@wkge-en.de
SUMMARY:ZP 10 Mathe
DESCRIPTION:
URL:https://wkge-en.de/wkge/termine/zp-10-mathe/
END:VEVENT
BEGIN:VEVENT
DTSTART;TZID=Europe/Berlin:20260529T090000
DTEND;TZID=Europe/Berlin:20260529T110000
DTSTAMP:20260419T145023
CREATED:20260211T074916Z
LAST-MODIFIED:20260211T074916Z
UID:10602-1780045200-1780052400@wkge-en.de
SUMMARY:Zentrale Klausur Deutsch EF
DESCRIPTION:
URL:https://wkge-en.de/wkge/termine/zentrale-klausur-deutsch-ef/
END:VEVENT
END:VCALENDAR